BEGIN:VCALENDAR
VERSION:2.0
PRODID:-//Government Acquisitions - ECPv6.15.20//NONSGML v1.0//EN
CALSCALE:GREGORIAN
METHOD:PUBLISH
X-WR-CALNAME:Government Acquisitions
X-ORIGINAL-URL:https://gov-acq.com
X-WR-CALDESC:Events for Government Acquisitions
REFRESH-INTERVAL;VALUE=DURATION:PT1H
X-Robots-Tag:noindex
X-PUBLISHED-TTL:PT1H
BEGIN:VTIMEZONE
TZID:America/New_York
BEGIN:DAYLIGHT
TZOFFSETFROM:-0500
TZOFFSETTO:-0400
TZNAME:EDT
DTSTART:20240310T070000
END:DAYLIGHT
BEGIN:STANDARD
TZOFFSETFROM:-0400
TZOFFSETTO:-0500
TZNAME:EST
DTSTART:20241103T060000
END:STANDARD
BEGIN:DAYLIGHT
TZOFFSETFROM:-0500
TZOFFSETTO:-0400
TZNAME:EDT
DTSTART:20250309T070000
END:DAYLIGHT
BEGIN:STANDARD
TZOFFSETFROM:-0400
TZOFFSETTO:-0500
TZNAME:EST
DTSTART:20251102T060000
END:STANDARD
BEGIN:DAYLIGHT
TZOFFSETFROM:-0500
TZOFFSETTO:-0400
TZNAME:EDT
DTSTART:20260308T070000
END:DAYLIGHT
BEGIN:STANDARD
TZOFFSETFROM:-0400
TZOFFSETTO:-0500
TZNAME:EST
DTSTART:20261101T060000
END:STANDARD
BEGIN:DAYLIGHT
TZOFFSETFROM:-0500
TZOFFSETTO:-0400
TZNAME:EDT
DTSTART:20270314T070000
END:DAYLIGHT
BEGIN:STANDARD
TZOFFSETFROM:-0400
TZOFFSETTO:-0500
TZNAME:EST
DTSTART:20271107T060000
END:STANDARD
END:VTIMEZONE
BEGIN:VTIMEZONE
TZID:UTC
BEGIN:STANDARD
TZOFFSETFROM:+0000
TZOFFSETTO:+0000
TZNAME:UTC
DTSTART:20240101T000000
END:STANDARD
END:VTIMEZONE
BEGIN:VEVENT
DTSTART;VALUE=DATE:20260316
DTEND;VALUE=DATE:20260320
DTSTAMP:20260420T105715
CREATED:20251212T224331Z
LAST-MODIFIED:20251212T224601Z
UID:34756-1773619200-1773964799@gov-acq.com
SUMMARY:NVIDIA GTC
DESCRIPTION:NVIDIA GTC
URL:https://gov-acq.com/event/nvidia-gtc/
LOCATION:NVIDIA GTC\, 150 West San Carlos Street\, San Jose\, CA\, 95113\, United States
END:VEVENT
BEGIN:VEVENT
DTSTART;VALUE=DATE:20260224
DTEND;VALUE=DATE:20260227
DTSTAMP:20260420T105715
CREATED:20251212T224010Z
LAST-MODIFIED:20251212T224304Z
UID:34753-1771891200-1772150399@gov-acq.com
SUMMARY:Vast Forward
DESCRIPTION:Vast Forward
URL:https://gov-acq.com/event/vast-forward/
LOCATION:Vast Forward\, 555 S Main St\, Salt Lake City\, UT\, 84111\, United States
END:VEVENT
BEGIN:VEVENT
DTSTART;VALUE=DATE:20260210
DTEND;VALUE=DATE:20260213
DTSTAMP:20260420T105715
CREATED:20251212T223504Z
LAST-MODIFIED:20251212T223658Z
UID:34750-1770681600-1770940799@gov-acq.com
SUMMARY:AFCEA West
DESCRIPTION:AFCEA West\nBooth #4418
URL:https://gov-acq.com/event/afcea-west/
LOCATION:AFCEA West\, 111 W. Harbor Drive\, San Diego\, CA\, 92101\, United States
END:VEVENT
BEGIN:VEVENT
DTSTART;VALUE=DATE:20260205
DTEND;VALUE=DATE:20260206
DTSTAMP:20260420T105715
CREATED:20251212T222938Z
LAST-MODIFIED:20251212T223407Z
UID:34747-1770249600-1770335999@gov-acq.com
SUMMARY:AFCEA Silicon Valley Cyber & IT Summit
DESCRIPTION:AFCEA Silicon Valley Cyber & IT Summit
URL:https://gov-acq.com/event/afcea-silicon-valley-cyber-it-summit/
LOCATION:2nd Annual AFCEA Silicon Valley Cyber & IT Summit\, 230 R T Jones Road\, Mountain View\, CA\, 94043\, United States
END:VEVENT
BEGIN:VEVENT
DTSTART;VALUE=DATE:20260202
DTEND;VALUE=DATE:20260206
DTSTAMP:20260420T105715
CREATED:20251212T222342Z
LAST-MODIFIED:20251212T222828Z
UID:34744-1769990400-1770335999@gov-acq.com
SUMMARY:Rocky Mountain Cyber Symposium
DESCRIPTION:Rocky Mountain Cyber Symposium\nBooth #245
URL:https://gov-acq.com/event/rocky-mountain-cyber-symposium/
LOCATION:Rocky Mountain Cyberspace Symposium 2026\, The Broadmoor Hotel 1 Lake Ave\, Colorado Springs\, CO\, 80906\, United States
END:VEVENT
BEGIN:VEVENT
DTSTART;VALUE=DATE:20251210
DTEND;VALUE=DATE:20251212
DTSTAMP:20260420T105715
CREATED:20250404T165429Z
LAST-MODIFIED:20250827T155838Z
UID:34431-1765324800-1765497599@gov-acq.com
SUMMARY:2025 Eastern Defense Summit
DESCRIPTION:2025 Eastern Defense Summit\nBooth #1100
URL:https://gov-acq.com/event/2025-eastern-defense-summit/
LOCATION:Charleston Area Convention Center\, 5001 Coliseum Dr\, North Charleston\, NC\, 29418\, United States
END:VEVENT
BEGIN:VEVENT
DTSTART;VALUE=DATE:20251113
DTEND;VALUE=DATE:20251114
DTSTAMP:20260420T105715
CREATED:20250821T232943Z
LAST-MODIFIED:20250827T160000Z
UID:34648-1762992000-1763078399@gov-acq.com
SUMMARY:Annual AFCEA Silicon Valley Cyber & IT Summit
DESCRIPTION:Annual AFCEA Silicon Valley Cyber & IT Summit
URL:https://gov-acq.com/event/annual-afcea-silicon-valley-cyber-it-summit/
LOCATION:CA
END:VEVENT
BEGIN:VEVENT
DTSTART;VALUE=DATE:20251028
DTEND;VALUE=DATE:20251031
DTSTAMP:20260420T105715
CREATED:20250404T165205Z
LAST-MODIFIED:20250827T160151Z
UID:34429-1761609600-1761868799@gov-acq.com
SUMMARY:TechNet Indo-Pacific
DESCRIPTION:TechNet Indo-Pacific\nBooth #907
URL:https://gov-acq.com/event/technet-indo-pacific/
LOCATION:CA
END:VEVENT
BEGIN:VEVENT
DTSTART;VALUE=DATE:20251027
DTEND;VALUE=DATE:20251030
DTSTAMP:20260420T105715
CREATED:20250821T232820Z
LAST-MODIFIED:20250827T160041Z
UID:34647-1761523200-1761782399@gov-acq.com
SUMMARY:GTC DC
DESCRIPTION:GTC DC
URL:https://gov-acq.com/event/gtc-dc/
LOCATION:CA
END:VEVENT
BEGIN:VEVENT
DTSTART;VALUE=DATE:20250828
DTEND;VALUE=DATE:20250829
DTSTAMP:20260420T105715
CREATED:20250821T232410Z
LAST-MODIFIED:20250827T160024Z
UID:34645-1756339200-1756425599@gov-acq.com
SUMMARY:Denver Federal Center Cyber Summit 2025
DESCRIPTION:Denver Federal Center Cyber Summit 2025
URL:https://gov-acq.com/event/denver-federal-center-cyber-summit-2025/
LOCATION:CA
END:VEVENT
BEGIN:VEVENT
DTSTART;VALUE=DATE:20250826
DTEND;VALUE=DATE:20250829
DTSTAMP:20260420T105715
CREATED:20250821T232227Z
LAST-MODIFIED:20250827T160034Z
UID:34644-1756166400-1756425599@gov-acq.com
SUMMARY:DHITS 2025
DESCRIPTION:DHITS 2025
URL:https://gov-acq.com/event/dhits-2025/
LOCATION:CA
END:VEVENT
BEGIN:VEVENT
DTSTART;VALUE=DATE:20250807
DTEND;VALUE=DATE:20250808
DTSTAMP:20260420T105715
CREATED:20250404T165727Z
LAST-MODIFIED:20250827T160103Z
UID:34432-1754524800-1754611199@gov-acq.com
SUMMARY:Leidos Supplier Innovation & Technology Symposium
DESCRIPTION:Leidos Supplier Innovation & Technology Symposium
URL:https://gov-acq.com/event/leidos-supplier-innovation-technology-symposium/
LOCATION:CA
END:VEVENT
BEGIN:VEVENT
DTSTART;VALUE=DATE:20250623
DTEND;VALUE=DATE:20250627
DTSTAMP:20260420T105715
CREATED:20250404T164914Z
LAST-MODIFIED:20250827T160048Z
UID:34428-1750636800-1750982399@gov-acq.com
SUMMARY:HPE Discover
DESCRIPTION:HPE Discover
URL:https://gov-acq.com/event/hpe-discover/
LOCATION:CA
END:VEVENT
BEGIN:VEVENT
DTSTART;VALUE=DATE:20250519
DTEND;VALUE=DATE:20250523
DTSTAMP:20260420T105715
CREATED:20250312T234910Z
LAST-MODIFIED:20250827T160013Z
UID:34325-1747612800-1747958399@gov-acq.com
SUMMARY:Dell Technologies World
DESCRIPTION:Dell Technologies World
URL:https://gov-acq.com/event/dell-technologies-world/
LOCATION:CA
END:VEVENT
BEGIN:VEVENT
DTSTART;VALUE=DATE:20250501
DTEND;VALUE=DATE:20250502
DTSTAMP:20260420T105715
CREATED:20250404T164840Z
LAST-MODIFIED:20250827T160055Z
UID:34427-1746057600-1746143999@gov-acq.com
SUMMARY:Innovation Day at Fort Eisenhower
DESCRIPTION:Innovation Day at Fort Eisenhower
URL:https://gov-acq.com/event/innovation-day-at-fort-eisenhower/
LOCATION:CA
END:VEVENT
BEGIN:VEVENT
DTSTART;VALUE=DATE:20250429
DTEND;VALUE=DATE:20250502
DTSTAMP:20260420T105715
CREATED:20250312T234825Z
LAST-MODIFIED:20250827T160111Z
UID:34324-1745884800-1746143999@gov-acq.com
SUMMARY:Modern Day Marine
DESCRIPTION:Modern Day Marine
URL:https://gov-acq.com/event/modern-day-marine/
LOCATION:CA
END:VEVENT
BEGIN:VEVENT
DTSTART;VALUE=DATE:20250317
DTEND;VALUE=DATE:20250321
DTSTAMP:20260420T105715
CREATED:20250312T234755Z
LAST-MODIFIED:20250827T160138Z
UID:34323-1742169600-1742515199@gov-acq.com
SUMMARY:NVIDIA GTC Conference
DESCRIPTION:NVIDIA GTC Conference
URL:https://gov-acq.com/event/nvidia-gtc-conference/
LOCATION:CA
END:VEVENT
BEGIN:VEVENT
DTSTART;VALUE=DATE:20250311
DTEND;VALUE=DATE:20250313
DTSTAMP:20260420T105715
CREATED:20250312T234716Z
LAST-MODIFIED:20260223T101353Z
UID:34322-1741651200-1741823999@gov-acq.com
SUMMARY:Intel Public Sector Summit
DESCRIPTION:Intel Public Sector Summit
URL:https://gov-acq.com/event/intel-public-sector-summit/
LOCATION:CA
END:VEVENT
BEGIN:VEVENT
DTSTART;VALUE=DATE:20250210
DTEND;VALUE=DATE:20250214
DTSTAMP:20260420T105715
CREATED:20241121T072713Z
LAST-MODIFIED:20250827T160146Z
UID:34049-1739145600-1739491199@gov-acq.com
SUMMARY:Rocky Mountain Cyberspace Symposium 2025
DESCRIPTION:Rocky Mountain Cyberspace Symposium 2025 (RMCS25)
URL:https://gov-acq.com/event/rocky-mountain-cyberspace-symposium-2025/
LOCATION:CA
CATEGORIES:Upcoming
END:VEVENT
BEGIN:VEVENT
DTSTART;VALUE=DATE:20250128
DTEND;VALUE=DATE:20250131
DTSTAMP:20260420T105715
CREATED:20240708T040831Z
LAST-MODIFIED:20250917T164336Z
UID:51-1738022400-1738281599@gov-acq.com
SUMMARY:AFCEA WEST 2025
DESCRIPTION:AFCEA WEST 2025
URL:https://gov-acq.com/event/afcea-west-2025/
LOCATION:CA
CATEGORIES:Upcoming
END:VEVENT
END:VCALENDAR